BEGIN:VCALENDAR
VERSION:2.0
PRODID:-//ical.marudot.com//iCal Event Maker
CALSCALE:GREGORIAN
BEGIN:VTIMEZONE
TZID:America/Chicago
LAST-MODIFIED:20201011T015911Z
TZURL:http://tzurl.org/zoneinfo-outlook/America/Chicago
X-LIC-LOCATION:America/Chicago
BEGIN:DAYLIGHT
TZNAME:CDT
TZOFFSETFROM:-0600
TZOFFSETTO:-0500
DTSTART:19700308T020000
RRULE:FREQ=YEARLY;BYMONTH=3;BYDAY=2SU
END:DAYLIGHT
BEGIN:STANDARD
TZNAME:CST
TZOFFSETFROM:-0500
TZOFFSETTO:-0600
DTSTART:19701101T020000
RRULE:FREQ=YEARLY;BYMONTH=11;BYDAY=1SU
END:STANDARD
END:VTIMEZONE
BEGIN:VEVENT
DTSTAMP:20210702T180505Z
UID:20210702T180505Z-1657537507@marudot.com
DTSTART;TZID=America/Chicago:20220528T180000
DTEND;TZID=America/Chicago:20220529T010000
SUMMARY:AliKiril Wedding
URL:http://www.alikiril.com
DESCRIPTION:Aliki + Kiril's Wedding
LOCATION:Monemvasia\, Greece
BEGIN:VALARM
ACTION:DISPLAY
DESCRIPTION:AliKiril Wedding
TRIGGER:-P1W
END:VALARM
END:VEVENT
END:VCALENDAR